BEGIN:VCALENDAR
VERSION:2.0
PRODID:-//ACADEMIA DE PSICOLOGÍA DE ESPAÑA - ECPv5.13.0//NONSGML v1.0//EN
CALSCALE:GREGORIAN
METHOD:PUBLISH
X-WR-CALNAME:ACADEMIA DE PSICOLOGÍA DE ESPAÑA
X-ORIGINAL-URL:https://www.academiapsicologia.com
X-WR-CALDESC:Events for ACADEMIA DE PSICOLOGÍA DE ESPAÑA
REFRESH-INTERVAL;VALUE=DURATION:PT1H
X-Robots-Tag:noindex
X-PUBLISHED-TTL:PT1H
BEGIN:VTIMEZONE
TZID:Europe/Madrid
BEGIN:DAYLIGHT
TZOFFSETFROM:+0100
TZOFFSETTO:+0200
TZNAME:CEST
DTSTART:20260329T010000
END:DAYLIGHT
BEGIN:STANDARD
TZOFFSETFROM:+0200
TZOFFSETTO:+0100
TZNAME:CET
DTSTART:20261025T010000
END:STANDARD
END:VTIMEZONE
BEGIN:VEVENT
DTSTART;TZID=Europe/Madrid:20260422T190000
DTEND;TZID=Europe/Madrid:20260422T203000
DTSTAMP:20260422T111946
CREATED:20260414T190209Z
LAST-MODIFIED:20260414T190209Z
UID:3714-1776884400-1776889800@www.academiapsicologia.com
SUMMARY:Duelo normal y duelo patológico. Estrategias efectivas de afrontamiento
DESCRIPTION:WEBINAR DE LA APE\nModeradora: \nDra. María Paz García-Vera\nAcadémica de Número de la APE  \nInterviene: \nDr. Enrique Echeburúa Odriozola\nAcadémico de Número de la APE \n  \nDESCARGAR PROGRAMA\nINSCRIPCIÓN\n  \n 
URL:https://www.academiapsicologia.com/index.php/event/duelo-normal-y-duelo-patologico-estrategias-efectivas-de-afrontamiento/
ATTACH;FMTTYPE=image/jpeg:https://www.academiapsicologia.com/wp-content/uploads/2026/04/20260422-Duelo-normal-y-duelo-patologico.-Estrategias-efectivas-de-afrontamiento.jpg
ORGANIZER;CN="Academia%20de%20Psicolog%C3%ADa%20de%20Espa%C3%B1a":MAILTO:secretaria@academiadepsicologia.es
END:VEVENT
BEGIN:VEVENT
DTSTART;TZID=Europe/Madrid:20260429T190000
DTEND;TZID=Europe/Madrid:20260429T203000
DTSTAMP:20260422T111946
CREATED:20260415T121331Z
LAST-MODIFIED:20260416T104247Z
UID:3724-1777489200-1777494600@www.academiapsicologia.com
SUMMARY:La autonomía como promotora de la Vitalidad. Investigación en el contexto deportivo
DESCRIPTION:WEBINAR DE LA APE\nModeradora: \nDra. María Paz García-Vera\nAcadémica de Número de la APE  \nInterviene: \nDra. María Isabel Balaguer Solá\nAcadémica de Número de la APE \n  \nDESCARGAR PROGRAMA\nINSCRIPCIÓN\n  \n 
URL:https://www.academiapsicologia.com/index.php/event/la-autonomia-como-promotora-de-la-vitalidad-investigacion-en-el-contexto-deportivo/
ATTACH;FMTTYPE=image/jpeg:https://www.academiapsicologia.com/wp-content/uploads/2026/04/20260429-La-autonomia-como-promotora-de-la-vitalidad.jpg
ORGANIZER;CN="Academia%20de%20Psicolog%C3%ADa%20de%20Espa%C3%B1a":MAILTO:secretaria@academiadepsicologia.es
END:VEVENT
BEGIN:VEVENT
DTSTART;TZID=Europe/Madrid:20260520T190000
DTEND;TZID=Europe/Madrid:20260520T203000
DTSTAMP:20260422T111946
CREATED:20260414T192259Z
LAST-MODIFIED:20260414T193732Z
UID:3719-1779303600-1779309000@www.academiapsicologia.com
SUMMARY:Conectividad cerebral asociada a la identidad de género
DESCRIPTION:WEBINAR DE LA APE\nModeradora: \nDra. María Paz García-Vera\nAcadémica de Número de la APE  \nInterviene: \nDr. Antonio Guillamón Fernández\nAcadémico de Número de la APE \n  \nDESCARGAR PROGRAMA\nINSCRIPCIÓN\n  \n 
URL:https://www.academiapsicologia.com/index.php/event/conectividad-cerebral-asociada-a-la-identidad-de-genero/
ATTACH;FMTTYPE=image/jpeg:https://www.academiapsicologia.com/wp-content/uploads/2026/04/20260520-Conectividad-cerebral-asociada-a-la-identidad-de-genero.jpg
ORGANIZER;CN="Academia%20de%20Psicolog%C3%ADa%20de%20Espa%C3%B1a":MAILTO:secretaria@academiadepsicologia.es
END:VEVENT
END:VCALENDAR